{ "currentVersion": 11.1, "serviceDescription": "
Modelo Digital de Terreno<\/SPAN>com pixels de 0,5m X 0,5m, com altitude medida por perfilamento a LASER em levantamento aerofotogramétrico compatível com a escala 1:1.000,contratado pela Terracap em 2016, conforme o Termo de Referência disponível para download em: http://www.terracap.df.gov.br/component/attached/?task=download&id=1813.O levantamento foi realizado na zona urbana do Distrito Federal que foi dividida em dez áreas para a entrega dos produtos. Os dados originais foram fornecidos pela Terracap no formato TIFF, sendo um arquivo para cada uma dessas áreas.Os dados sofreram algumas correções e foram armazenados no mesmo Mosaic Dataset.As imagens das Áreas 03 e 08 estavam sem sistema de referência espacial definido. Foi atribuído o sistema SIRGAS2000 UTM 23S. O mesmo sistema foi atribuído à imagem referente à Área 04 que estava em WGS84 UTM 23S.Não havia uma imagem única para a Área 06, de modo que essa imagem foi obtida através da fusão das imagens das quadrículas SICAD que coindidiam com a área.O processamento foi feito por Roberto Souza Borges em atendimento ao chamado número 20885 aberto no serviço de suporte técnico da ESEG.<\/SPAN><\/P><\/DIV><\/DIV><\/DIV>",
"name": "ALTIMETRIA/MDTsAreasUrbanas",
"description": " Modelo Digital de Terreno<\/SPAN>com pixels de 0,5m X 0,5m, com altitude medida por perfilamento a LASER em levantamento aerofotogramétrico compatível com a escala 1:1.000,contratado pela Terracap em 2016, conforme o Termo de Referência disponível para download em: http://www.terracap.df.gov.br/component/attached/?task=download&id=1813.O levantamento foi realizado na zona urbana do Distrito Federal que foi dividida em dez áreas para a entrega dos produtos. Os dados originais foram fornecidos pela Terracap no formato TIFF, sendo um arquivo para cada uma dessas áreas.Os dados sofreram algumas correções e foram armazenados no mesmo Mosaic Dataset.As imagens das Áreas 03 e 08 estavam sem sistema de referência espacial definido. Foi atribuído o sistema SIRGAS2000 UTM 23S. O mesmo sistema foi atribuído à imagem referente à Área 04 que estava em WGS84 UTM 23S.Não havia uma imagem única para a Área 06, de modo que essa imagem foi obtida através da fusão das imagens das quadrículas SICAD que coindidiam com a área.O processamento foi feito por Roberto Souza Borges em atendimento ao chamado número 20885 aberto no serviço de suporte técnico da ESEG.<\/SPAN><\/P><\/DIV><\/DIV><\/DIV>",
"extent": {
"xmin": -5372927.422909402,
"ymin": -1811590.1961866794,
"xmax": -5286519.322896981,
"ymax": -1750837.535845211,
"spatialReference": {
"wkid": 102100,
"latestWkid": 3857
}
},
"initialExtent": {
"xmin": -5372927.422909402,
"ymin": -1811590.1961866794,
"xmax": -5286519.322896981,
"ymax": -1750837.535845211,
"spatialReference": {
"wkid": 102100,
"latestWkid": 3857
}
},
"fullExtent": {
"xmin": -5372927.422909402,
"ymin": -1811590.1961866794,
"xmax": -5286519.322896981,
"ymax": -1750837.535845211,
"spatialReference": {
"wkid": 102100,
"latestWkid": 3857
}
},
"sortableFields": "MinPS,MaxPS,LowPS,HighPS,CenterX,CenterY,ZOrder",
"bandCount": 1,
"pixelType": "F32",
"minValues": [
729.460577249527
],
"maxValues": [
1302.0307557582855
],
"meanValues": [
1081.9439730325605
],
"stdvValues": [
84.8739521607245
],
"hasMultidimensions": false,
"pixelSizeX": 0.5,
"pixelSizeY": 0.5,
"datasetFormat": "AMD",
"uncompressedSize": 83992032320,
"blockWidth": 2048,
"blockHeight": 256,
"compressionType": "None",
"bandNames": [
"Band_1"
],
"allowCopy": true,
"allowAnalysis": true,
"itemAccess": false,
"minPixelSize": 4.77731426794937,
"maxPixelSize": 19567.87924099992,
"copyrightText": "Topocart",
"serviceDataType": "esriImageServiceDataTypeGeneric",
"serviceSourceType": "esriImageServiceSourceTypeMosaicDataset",
"objectIdField": "OBJECTID",
"fields": [
{
"name": "OBJECTID",
"type": "esriFieldTypeOID",
"alias": "OBJECTID",
"domain": null
},
{
"name": "Name",
"type": "esriFieldTypeString",
"alias": "Name",
"domain": null,
"length": 200
},
{
"name": "MinPS",
"type": "esriFieldTypeDouble",
"alias": "MinPS",
"domain": null
},
{
"name": "MaxPS",
"type": "esriFieldTypeDouble",
"alias": "MaxPS",
"domain": null
},
{
"name": "LowPS",
"type": "esriFieldTypeDouble",
"alias": "LowPS",
"domain": null
},
{
"name": "HighPS",
"type": "esriFieldTypeDouble",
"alias": "HighPS",
"domain": null
},
{
"name": "Category",
"type": "esriFieldTypeInteger",
"alias": "Category",
"domain": {
"type": "codedValue",
"name": "MosaicCatalogItemCategoryDomain",
"description": "Catalog item categories.",
"codedValues": [
{
"name": "Unknown",
"code": 0
},
{
"name": "Primary",
"code": 1
},
{
"name": "Overview",
"code": 2
},
{
"name": "Unprocessed Overview",
"code": 3
},
{
"name": "Partial Overview",
"code": 4
},
{
"name": "Inactive",
"code": 5
},
{
"name": "Uploaded",
"code": 253
},
{
"name": "Incomplete",
"code": 254
},
{
"name": "Custom",
"code": 255
}
],
"mergePolicy": "esriMPTDefaultValue",
"splitPolicy": "esriSPTDefaultValue"
}
},
{
"name": "Tag",
"type": "esriFieldTypeString",
"alias": "Tag",
"domain": null,
"length": 100
},
{
"name": "GroupName",
"type": "esriFieldTypeString",
"alias": "GroupName",
"domain": null,
"length": 100
},
{
"name": "ProductName",
"type": "esriFieldTypeString",
"alias": "ProductName",
"domain": null,
"length": 100
},
{
"name": "CenterX",
"type": "esriFieldTypeDouble",
"alias": "CenterX",
"domain": null
},
{
"name": "CenterY",
"type": "esriFieldTypeDouble",
"alias": "CenterY",
"domain": null
},
{
"name": "ZOrder",
"type": "esriFieldTypeInteger",
"alias": "ZOrder",
"domain": null
},
{
"name": "Shape",
"type": "esriFieldTypeGeometry",
"alias": "Shape",
"domain": null
}
],
"capabilities": "Image,Metadata,Catalog,Mensuration",
"defaultMosaicMethod": "Northwest",
"allowedMosaicMethods": "NorthWest,Center,LockRaster,ByAttribute,Nadir,Viewpoint,Seamline,None",
"sortField": "",
"sortValue": null,
"sortAscending": true,
"mosaicOperator": "First",
"maxDownloadSizeLimit": 2048,
"defaultCompressionQuality": 75,
"defaultResamplingMethod": "Bilinear",
"maxImageHeight": 4100,
"maxImageWidth": 15000,
"maxRecordCount": 1000,
"maxDownloadImageCount": 20,
"maxMosaicImageCount": 20,
"singleFusedMapCache": true,
"tileInfo": {
"rows": 256,
"cols": 256,
"dpi": 96,
"format": "LERC",
"compressionQuality": 0,
"lercError": 0.05,
"origin": {
"x": -2.0037508342787E7,
"y": 2.0037508342787E7
},
"spatialReference": {
"wkid": 102100,
"latestWkid": 3857
},
"lods": [
{
"level": 0,
"resolution": 156543.03392800014,
"scale": 5.91657527591555E8
},
{
"level": 1,
"resolution": 78271.51696399994,
"scale": 2.95828763795777E8
},
{
"level": 2,
"resolution": 39135.75848200009,
"scale": 1.47914381897889E8
},
{
"level": 3,
"resolution": 19567.87924099992,
"scale": 7.3957190948944E7
},
{
"level": 4,
"resolution": 9783.93962049996,
"scale": 3.6978595474472E7
},
{
"level": 5,
"resolution": 4891.96981024998,
"scale": 1.8489297737236E7
},
{
"level": 6,
"resolution": 2445.98490512499,
"scale": 9244648.868618
},
{
"level": 7,
"resolution": 1222.992452562495,
"scale": 4622324.434309
},
{
"level": 8,
"resolution": 611.4962262813797,
"scale": 2311162.217155
},
{
"level": 9,
"resolution": 305.74811314055756,
"scale": 1155581.108577
},
{
"level": 10,
"resolution": 152.87405657041106,
"scale": 577790.554289
},
{
"level": 11,
"resolution": 76.43702828507324,
"scale": 288895.277144
},
{
"level": 12,
"resolution": 38.21851414253662,
"scale": 144447.638572
},
{
"level": 13,
"resolution": 19.10925707126831,
"scale": 72223.819286
},
{
"level": 14,
"resolution": 9.554628535634155,
"scale": 36111.909643
},
{
"level": 15,
"resolution": 4.77731426794937,
"scale": 18055.954822
},
{
"level": 16,
"resolution": 2.388657133974685,
"scale": 9027.977411
},
{
"level": 17,
"resolution": 1.1943285668550503,
"scale": 4513.988705
},
{
"level": 18,
"resolution": 0.5971642835598172,
"scale": 2256.994353
},
{
"level": 19,
"resolution": 0.29858214164761665,
"scale": 1128.497176
},
{
"level": 20,
"resolution": 0.14929107082380833,
"scale": 564.248588
},
{
"level": 21,
"resolution": 0.07464553541190416,
"scale": 282.124294
},
{
"level": 22,
"resolution": 0.03732276770595208,
"scale": 141.062147
},
{
"level": 23,
"resolution": 0.01866138385297604,
"scale": 70.5310735
}
]
},
"storageInfo": {
"storageFormat": "esriMapCacheStorageModeCompactV2",
"packetSize": 128
},
"cacheType": "Elevation",
"allowRasterFunction": true,
"rasterFunctionInfos": [
{
"name": "None",
"description": "A No-Op Function.",
"help": ""
}
],
"rasterTypeInfos": [
{
"name": "Raster Dataset",
"description": "Supports all ArcGIS Raster Datasets",
"help": ""
}
],
"mensurationCapabilities": "Basic",
"hasHistograms": true,
"hasColormap": false,
"hasRasterAttributeTable": false,
"minScale": 7.3957190948944E7,
"maxScale": 18055.954822,
"minLOD": 3,
"maxLOD": 9,
"exportTilesAllowed": false,
"supportsStatistics": true,
"supportsAdvancedQueries": true,
"editFieldsInfo": null,
"ownershipBasedAccessControlForRasters": null,
"allowComputeTiePoints": false,
"useStandardizedQueries": true,
"advancedQueryCapabilities": {
"useStandardizedQueries": true,
"supportsStatistics": true,
"supportsOrderBy": true,
"supportsDistinct": true,
"supportsPagination": true
},
"spatialReference": {
"wkid": 102100,
"latestWkid": 3857
}
}