View In:
ArcGIS JavaScript
ArcGIS Online Map Viewer
ArcGIS Earth
Service Description: Modelo Digital de Terrenocom pixels de 0,5m X 0,5m, com altitude medida por perfilamento a LASER em levantamento aerofotogramétrico compatível com a escala 1:1.000,contratado pela Terracap em 2016, conforme o Termo de Referência disponível para download em: http://www.terracap.df.gov.br/component/attached/?task=download&id=1813.O levantamento foi realizado na zona urbana do Distrito Federal que foi dividida em dez áreas para a entrega dos produtos. Os dados originais foram fornecidos pela Terracap no formato TIFF, sendo um arquivo para cada uma dessas áreas.Os dados sofreram algumas correções e foram armazenados no mesmo Mosaic Dataset.As imagens das Áreas 03 e 08 estavam sem sistema de referência espacial definido. Foi atribuído o sistema SIRGAS2000 UTM 23S. O mesmo sistema foi atribuído à imagem referente à Área 04 que estava em WGS84 UTM 23S.Não havia uma imagem única para a Área 06, de modo que essa imagem foi obtida através da fusão das imagens das quadrículas SICAD que coindidiam com a área.O processamento foi feito por Roberto Souza Borges em atendimento ao chamado número 20885 aberto no serviço de suporte técnico da ESEG.
Name: ALTIMETRIA/MDTsAreasUrbanas
Description: Modelo Digital de Terrenocom pixels de 0,5m X 0,5m, com altitude medida por perfilamento a LASER em levantamento aerofotogramétrico compatível com a escala 1:1.000,contratado pela Terracap em 2016, conforme o Termo de Referência disponível para download em: http://www.terracap.df.gov.br/component/attached/?task=download&id=1813.O levantamento foi realizado na zona urbana do Distrito Federal que foi dividida em dez áreas para a entrega dos produtos. Os dados originais foram fornecidos pela Terracap no formato TIFF, sendo um arquivo para cada uma dessas áreas.Os dados sofreram algumas correções e foram armazenados no mesmo Mosaic Dataset.As imagens das Áreas 03 e 08 estavam sem sistema de referência espacial definido. Foi atribuído o sistema SIRGAS2000 UTM 23S. O mesmo sistema foi atribuído à imagem referente à Área 04 que estava em WGS84 UTM 23S.Não havia uma imagem única para a Área 06, de modo que essa imagem foi obtida através da fusão das imagens das quadrículas SICAD que coindidiam com a área.O processamento foi feito por Roberto Souza Borges em atendimento ao chamado número 20885 aberto no serviço de suporte técnico da ESEG.
Single Fused Map Cache: true
Tile Info:
- Height: 256
- Width: 256
- DPI: 96
-
Levels of Detail: 24
-
Level ID: 0
[ Start Tile, End Tile ]
- Resolution: 156543.03392800014
- Scale: 5.91657527591555E8
-
Level ID: 1
[ Start Tile, End Tile ]
- Resolution: 78271.51696399994
- Scale: 2.95828763795777E8
-
Level ID: 2
[ Start Tile, End Tile ]
- Resolution: 39135.75848200009
- Scale: 1.47914381897889E8
-
Level ID: 3
[ Start Tile, End Tile ]
- Resolution: 19567.87924099992
- Scale: 7.3957190948944E7
-
Level ID: 4
[ Start Tile, End Tile ]
- Resolution: 9783.93962049996
- Scale: 3.6978595474472E7
-
Level ID: 5
[ Start Tile, End Tile ]
- Resolution: 4891.96981024998
- Scale: 1.8489297737236E7
- Format: LERC
- Compression Quality: 0.0
- LERC Error: 0.05
- Origin: X: -2.0037508342787E7
Y: 2.0037508342787E7
- Spatial Reference: 102100
(3857)
LatestVCSWkid(0)
Storage Info:
- Storage Format: esriMapCacheStorageModeCompactV2
- Packet Size: 128
Extent:
XMin: -5372927.422909402
YMin: -1811590.1961866794
XMax: -5286519.322896981
YMax: -1750837.535845211
Spatial Reference: 102100
(3857)
LatestVCSWkid(0)
Initial Extent:
XMin: -5372927.422909402
YMin: -1811590.1961866794
XMax: -5286519.322896981
YMax: -1750837.535845211
Spatial Reference: 102100
(3857)
LatestVCSWkid(0)
Full Extent:
XMin: -5372927.422909402
YMin: -1811590.1961866794
XMax: -5286519.322896981
YMax: -1750837.535845211
Spatial Reference: 102100
(3857)
LatestVCSWkid(0)
Pixel Size X: 0.5
Pixel Size Y: 0.5
Band Count: 1
Pixel Type: F32
RasterFunction Infos: {"rasterFunctionInfos": [{
"name": "None",
"description": "A No-Op Function.",
"help": ""
}]}
Mensuration Capabilities: Basic
Has Histograms: true
Has Colormap: false
Has Multi Dimensions : false
Rendering Rule:
Min Scale: 7.3957190948944E7
Max Scale: 18055.954822
Min LOD: 3
Max LOD: 9
Copyright Text: Topocart
Service Data Type: esriImageServiceDataTypeGeneric
Min Values: 729.460577249527
Max Values: 1302.0307557582855
Mean Values: 1081.9439730325605
Standard Deviation Values: 84.8739521607245
Object ID Field: OBJECTID
Fields:
-
OBJECTID
(
type: esriFieldTypeOID, alias: OBJECTID
)
-
Name
(
type: esriFieldTypeString, alias: Name, length: 200
)
-
MinPS
(
type: esriFieldTypeDouble, alias: MinPS
)
-
MaxPS
(
type: esriFieldTypeDouble, alias: MaxPS
)
-
LowPS
(
type: esriFieldTypeDouble, alias: LowPS
)
-
HighPS
(
type: esriFieldTypeDouble, alias: HighPS
)
-
Category
(
type: esriFieldTypeInteger, alias: Category
, Coded Values:
[0: Unknown]
, [1: Primary]
, [2: Overview]
, ...6 more...
)
-
Tag
(
type: esriFieldTypeString, alias: Tag, length: 100
)
-
GroupName
(
type: esriFieldTypeString, alias: GroupName, length: 100
)
-
ProductName
(
type: esriFieldTypeString, alias: ProductName, length: 100
)
-
CenterX
(
type: esriFieldTypeDouble, alias: CenterX
)
-
CenterY
(
type: esriFieldTypeDouble, alias: CenterY
)
-
ZOrder
(
type: esriFieldTypeInteger, alias: ZOrder
)
-
Shape
(
type: esriFieldTypeGeometry, alias: Shape
)
Default Mosaic Method: Northwest
Allowed Mosaic Methods: NorthWest,Center,LockRaster,ByAttribute,Nadir,Viewpoint,Seamline,None
SortField:
SortValue: null
Mosaic Operator: First
Default Compression Quality: 75
Default Resampling Method: Bilinear
Max Record Count: 1000
Max Image Height: 4100
Max Image Width: 15000
Max Download Image Count: 20
Max Mosaic Image Count: 20
Allow Raster Function: true
Allow Copy: true
Allow Analysis: true
Allow Compute TiePoints: false
Supports Statistics: true
Supports Advanced Queries: true
Use StandardizedQueries: true
Raster Type Infos:
Name: Raster Dataset
Description: Supports all ArcGIS Raster Datasets
Help:
Has Raster Attribute Table: false
Edit Fields Info: null
Ownership Based AccessControl For Rasters: null
Child Resources:
Info
Histograms
Statistics
Key Properties
Legend
Raster Function Infos
Supported Operations:
Export Image
Query
Identify
Measure
Compute Histograms
Compute Statistics Histograms
Get Samples
Compute Class Statistics
Query Boundary
Compute Pixel Location
Compute Angles
Validate
Project